{
 "currentVersion": 10.81,
 "serviceDescription": "",
 "mapName": "Layers",
 "description": "",
 "copyrightText": "",
 "supportsDynamicLayers": true,
 "layers": [
  {
   "id": 0,
   "name": "SDW.bndMunicipalBoundary",
   "parentLayerId": -1,
   "defaultVisibility": false,
   "subLayerIds": null,
   "minScale": 0,
   "maxScale": 0,
   "type": "Feature Layer",
   "geometryType": "esriGeometryPolygon"
  }
 ],
 "tables": [],
 "spatialReference": {
  "wkid": 102100,
  "latestWkid": 3857
 },
 "singleFusedMapCache": true,
 "tileInfo": {
  "rows": 256,
  "cols": 256,
  "dpi": 96,
  "format": "PNG",
  "compressionQuality": 0,
  "origin": {
   "x": -20037700,
   "y": 30241100
  },
  "spatialReference": {
   "wkid": 102100,
   "latestWkid": 3857
  },
  "lods": [
   {
    "level": 0,
    "resolution": 152.87390991448652,
    "scale": 577790
   },
   {
    "level": 1,
    "resolution": 76.43695495724326,
    "scale": 288895
   },
   {
    "level": 2,
    "resolution": 38.21834518669038,
    "scale": 144447
   },
   {
    "level": 3,
    "resolution": 19.109040301413938,
    "scale": 72223
   },
   {
    "level": 4,
    "resolution": 9.554387858775717,
    "scale": 36111
   },
   {
    "level": 5,
    "resolution": 4.777061637456608,
    "scale": 18055
   },
   {
    "level": 6,
    "resolution": 2.3883985267970536,
    "scale": 9027
   },
   {
    "level": 7,
    "resolution": 1.1940669714672763,
    "scale": 4513
   },
   {
    "level": 8,
    "resolution": 0.5969011938023876,
    "scale": 2256
   },
   {
    "level": 9,
    "resolution": 0.2984505969011938,
    "scale": 1128
   },
   {
    "level": 10,
    "resolution": 0.1492252984505969,
    "scale": 564
   },
   {
    "level": 11,
    "resolution": 0.07461264922529845,
    "scale": 282
   },
   {
    "level": 12,
    "resolution": 0.037306324612649225,
    "scale": 141
   },
   {
    "level": 13,
    "resolution": 0.018520870375074085,
    "scale": 70
   },
   {
    "level": 14,
    "resolution": 0.009260435187537042,
    "scale": 35
   }
  ]
 },
 "initialExtent": {
  "xmin": -9356216.607378863,
  "ymin": 5017274.105201969,
  "xmax": -8599682.43643874,
  "ymax": 6012935.585195681,
  "spatialReference": {
   "wkid": 102100,
   "latestWkid": 3857
  }
 },
 "fullExtent": {
  "xmin": -8939607.121172074,
  "ymin": 5382436.227888314,
  "xmax": -8726870.574021203,
  "ymax": 5606270.960419537,
  "spatialReference": {
   "wkid": 102100,
   "latestWkid": 3857
  }
 },
 "minScale": 2311162.217155,
 "maxScale": 4513.988705,
 "units": "esriMeters",
 "supportedImageFormatTypes": "PNG32,PNG24,PNG,JPG,DIB,TIFF,EMF,PS,PDF,GIF,SVG,SVGZ,BMP",
 "documentInfo": {
  "Title": "",
  "Author": "",
  "Comments": "",
  "Subject": "",
  "Category": "",
  "AntialiasingMode": "None",
  "TextAntialiasingMode": "Force",
  "Keywords": ""
 },
 "capabilities": "Map,Query,Data",
 "supportedQueryFormats": "JSON, geoJSON",
 "exportTilesAllowed": false,
 "referenceScale": 0,
 "datumTransformations": [
  {
   "geoTransforms": [
    {
     "wkid": 8494,
     "latestWkid": 1515,
     "transformForward": true,
     "name": "NAD_1983_To_WGS_1984_5"
    }
   ]
  },
  {
   "geoTransforms": [
    {
     "wkid": 8494,
     "latestWkid": 1515,
     "transformForward": false,
     "name": "NAD_1983_To_WGS_1984_5"
    }
   ]
  }
 ],
 "supportsDatumTransformation": true,
 "maxRecordCount": 1000,
 "maxImageHeight": 4096,
 "maxImageWidth": 4096,
 "supportedExtensions": "",
 "resampling": false
}
