{
 "currentVersion": 10.81,
 "serviceDescription": "",
 "mapName": "Layers",
 "description": "",
 "copyrightText": "",
 "supportsDynamicLayers": false,
 "layers": [
  {
   "id": 0,
   "name": "1860 Tremaine map of York County.tif",
   "parentLayerId": -1,
   "defaultVisibility": true,
   "subLayerIds": null,
   "minScale": 0,
   "maxScale": 0,
   "type": "Raster Layer"
  }
 ],
 "tables": [],
 "spatialReference": {
  "wkid": 102100,
  "latestWkid": 3857
 },
 "singleFusedMapCache": true,
 "tileInfo": {
  "rows": 256,
  "cols": 256,
  "dpi": 96,
  "format": "MIXED",
  "compressionQuality": 80,
  "origin": {
   "x": -2.0037508342787E7,
   "y": 2.0037508342787E7
  },
  "spatialReference": {
   "wkid": 102100,
   "latestWkid": 3857
  },
  "lods": [
   {
    "level": 0,
    "resolution": 152.87405657041106,
    "scale": 577790.554289
   },
   {
    "level": 1,
    "resolution": 76.43702828507324,
    "scale": 288895.277144
   },
   {
    "level": 2,
    "resolution": 38.21851414253662,
    "scale": 144447.638572
   },
   {
    "level": 3,
    "resolution": 19.10925707126831,
    "scale": 72223.819286
   },
   {
    "level": 4,
    "resolution": 9.554628535634155,
    "scale": 36111.909643
   },
   {
    "level": 5,
    "resolution": 4.77731426794937,
    "scale": 18055.954822
   },
   {
    "level": 6,
    "resolution": 2.388657133974685,
    "scale": 9027.977411
   },
   {
    "level": 7,
    "resolution": 1.1943285668550503,
    "scale": 4513.988705
   },
   {
    "level": 8,
    "resolution": 0.5971642835598172,
    "scale": 2256.994353
   },
   {
    "level": 9,
    "resolution": 0.29858214164761665,
    "scale": 1128.497176
   },
   {
    "level": 10,
    "resolution": 0.14929107082380833,
    "scale": 564.248588
   },
   {
    "level": 11,
    "resolution": 0.07464553541190416,
    "scale": 282.124294
   }
  ]
 },
 "initialExtent": {
  "xmin": -8980041.77034747,
  "ymin": 5436522.184670322,
  "xmax": -8692069.9447464,
  "ymax": 5541760.443351766,
  "spatialReference": {
   "wkid": 102100,
   "latestWkid": 3857
  }
 },
 "fullExtent": {
  "xmin": -8902745.094224943,
  "ymin": 5390040.132245837,
  "xmax": -8769375.74029576,
  "ymax": 5536825.5609547375,
  "spatialReference": {
   "wkid": 102100,
   "latestWkid": 3857
  }
 },
 "minScale": 577790.554289,
 "maxScale": 18055.954822,
 "units": "esriMeters",
 "supportedImageFormatTypes": "PNG32,PNG24,PNG,JPG,DIB,TIFF,EMF,PS,PDF,GIF,SVG,SVGZ,BMP",
 "documentInfo": {
  "Title": "",
  "Author": "",
  "Comments": "",
  "Subject": "",
  "Category": "",
  "AntialiasingMode": "None",
  "TextAntialiasingMode": "Force",
  "Keywords": ""
 },
 "capabilities": "Map,Query,Data",
 "supportedQueryFormats": "JSON, geoJSON",
 "exportTilesAllowed": false,
 "referenceScale": 0,
 "supportsDatumTransformation": true,
 "maxRecordCount": 1000,
 "maxImageHeight": 4096,
 "maxImageWidth": 4096,
 "supportedExtensions": ""
}
